BEGIN:VCALENDAR
VERSION:2.0
PRODID:icalendar-ruby
CALSCALE:GREGORIAN
BEGIN:VEVENT
DTSTAMP:20260423T170214Z
UID:e5e5ba21-ef27-41c6-93c7-efe6cc0d50f6
DTSTART;TZID=Pacific/Auckland:20260425T130000
DTEND;TZID=Pacific/Auckland:20260425T133000
DESCRIPTION:Property ID# 606537
SUMMARY:Openhome for 39 Paraoa Crescent
END:VEVENT
END:VCALENDAR
