BEGIN:VCALENDAR
VERSION:2.0
PRODID:icalendar-ruby
CALSCALE:GREGORIAN
BEGIN:VEVENT
DTSTAMP:20260423T163909Z
UID:815fdbc4-8361-4ee4-8ae7-dcb6635e3928
DTSTART;TZID=Pacific/Auckland:20260425T113000
DTEND;TZID=Pacific/Auckland:20260425T120000
DESCRIPTION:Property ID# 604413
SUMMARY:Openhome for 6 Jane Gifford Place
END:VEVENT
END:VCALENDAR
