BEGIN:VCALENDAR
VERSION:2.0
PRODID:icalendar-ruby
CALSCALE:GREGORIAN
BEGIN:VEVENT
DTSTAMP:20260423T114417Z
UID:a701909c-7262-484a-8ba6-4b0cd9ec21ea
DTSTART;TZID=Pacific/Auckland:20260425T153000
DTEND;TZID=Pacific/Auckland:20260425T160000
DESCRIPTION:Property ID# 598203
SUMMARY:Openhome for 5 Dysart Lane
END:VEVENT
END:VCALENDAR
