BEGIN:VCALENDAR
VERSION:2.0
PRODID:icalendar-ruby
CALSCALE:GREGORIAN
BEGIN:VEVENT
DTSTAMP:20260421T104724Z
UID:d199ea8d-3c42-41a3-abce-dbcb21d5ece5
DTSTART;TZID=Pacific/Auckland:20260419T104500
DTEND;TZID=Pacific/Auckland:20260419T111500
DESCRIPTION:Property ID# 599939
SUMMARY:Openhome for 1223 Old North Road
END:VEVENT
END:VCALENDAR
