BEGIN:VCALENDAR
VERSION:2.0
PRODID:icalendar-ruby
CALSCALE:GREGORIAN
BEGIN:VEVENT
DTSTAMP:20260419T120742Z
UID:ea981908-7c40-4b01-a6c9-091f009c5f0f
DTSTART;VALUE=DATE:20260507
DESCRIPTION:Property ID# 606428\, Locatoin: In Room - 128 Hurstmere Road Ta
 kapuna\, Time: 12:00PM
SUMMARY:Auction for 4 Saddleback Rise
END:VEVENT
END:VCALENDAR
