BEGIN:VCALENDAR
VERSION:2.0
PRODID:icalendar-ruby
CALSCALE:GREGORIAN
BEGIN:VEVENT
DTSTAMP:20260420T112408Z
UID:bcc2a56f-8cd8-40e0-8e68-5c17739cf93d
DTSTART;VALUE=DATE:20251112
DESCRIPTION:Property ID# 599037\, Time: 12:00PM
SUMMARY:Auction for 
END:VEVENT
END:VCALENDAR
