BEGIN:VCALENDAR
VERSION:2.0
PRODID:icalendar-ruby
CALSCALE:GREGORIAN
BEGIN:VEVENT
DTSTAMP:20260421T104103Z
UID:03c27a7e-69d4-449d-b657-45bbbfb56c00
DTSTART;VALUE=DATE:20250524
DESCRIPTION:Property ID# 592016\, Time: 2:00PM
SUMMARY:Auction for 
END:VEVENT
END:VCALENDAR
