BEGIN:VCALENDAR
VERSION:2.0
PRODID:icalendar-ruby
CALSCALE:GREGORIAN
BEGIN:VEVENT
DTSTAMP:20260421T150619Z
UID:d2ed906a-1917-4fa3-9aa7-bf0f2f80ff34
DTSTART;VALUE=DATE:20241018
DESCRIPTION:Property ID# 581542\, Time: 12:00PM
SUMMARY:Auction for 
END:VEVENT
END:VCALENDAR
