BEGIN:VCALENDAR
VERSION:2.0
PRODID:icalendar-ruby
CALSCALE:GREGORIAN
BEGIN:VEVENT
DTSTAMP:20260422T210717Z
UID:73faecd0-d32c-47dc-996c-adbb51151947
DTSTART;VALUE=DATE:20220226
DESCRIPTION:Property ID# 526949\, Time: 3:00PM
SUMMARY:Auction for 
END:VEVENT
END:VCALENDAR
