BEGIN:VCALENDAR
VERSION:2.0
PRODID:icalendar-ruby
CALSCALE:GREGORIAN
BEGIN:VEVENT
DTSTAMP:20260421T104531Z
UID:fa058c10-22fa-4889-a2d9-63ec4a5f0bdb
DTSTART;VALUE=DATE:20211214
DESCRIPTION:Property ID# 523431\, Time: 1:00PM
SUMMARY:Auction for 
END:VEVENT
END:VCALENDAR
