BEGIN:VCALENDAR
VERSION:2.0
PRODID:icalendar-ruby
CALSCALE:GREGORIAN
BEGIN:VEVENT
DTSTAMP:20260421T114312Z
UID:5b8e6a97-cb73-46eb-8bd2-7abba8ed43cd
DTSTART;VALUE=DATE:20211209
DESCRIPTION:Property ID# 523152\, Locatoin: online \, Time: 1:00PM
SUMMARY:Auction for 
END:VEVENT
END:VCALENDAR
