BEGIN:VCALENDAR
VERSION:2.0
PRODID:icalendar-ruby
CALSCALE:GREGORIAN
BEGIN:VEVENT
DTSTAMP:20260421T114501Z
UID:8d13eb51-7aed-43fd-949a-baad83b05402
DTSTART;VALUE=DATE:20211104
DESCRIPTION:Property ID# 518041\, Time: 6:30PM
SUMMARY:Auction for 
END:VEVENT
END:VCALENDAR
