BEGIN:VCALENDAR
VERSION:2.0
PRODID:icalendar-ruby
CALSCALE:GREGORIAN
BEGIN:VEVENT
DTSTAMP:20260420T093802Z
UID:1237b4b9-cc53-4e9d-8261-602e4ca16e48
DTSTART;VALUE=DATE:20210807
DESCRIPTION:Property ID# 513525\, Locatoin: On Site\, Time: 2:00PM
SUMMARY:Auction for 
END:VEVENT
END:VCALENDAR
