BEGIN:VCALENDAR
VERSION:2.0
PRODID:icalendar-ruby
CALSCALE:GREGORIAN
BEGIN:VEVENT
DTSTAMP:20260421T104419Z
UID:398f7e08-7a9d-4a16-a474-3e63d0887c30
DTSTART;VALUE=DATE:20210617
DESCRIPTION:Property ID# 510582\, Time: 6:30PM
SUMMARY:Auction for 
END:VEVENT
END:VCALENDAR
