BEGIN:VCALENDAR
VERSION:2.0
PRODID:icalendar-ruby
CALSCALE:GREGORIAN
BEGIN:VEVENT
DTSTAMP:20260420T002431Z
UID:4f3df18a-bcef-4ebf-9dae-dcafcdccd99f
DTSTART;VALUE=DATE:20210321
DESCRIPTION:Property ID# 503631\, Time: 3:00PM
SUMMARY:Auction for 
END:VEVENT
END:VCALENDAR
