BEGIN:VCALENDAR
VERSION:2.0
PRODID:icalendar-ruby
CALSCALE:GREGORIAN
BEGIN:VEVENT
DTSTAMP:20260419T151824Z
UID:cb661aac-72c7-4f08-8ffe-6d9c2790f67e
DTSTART;VALUE=DATE:20210221
DESCRIPTION:Property ID# 500474\, Locatoin: Onsite\, Time: 12:00PM
SUMMARY:Auction for 
END:VEVENT
END:VCALENDAR
