BEGIN:VCALENDAR
VERSION:2.0
PRODID:icalendar-ruby
CALSCALE:GREGORIAN
BEGIN:VEVENT
DTSTAMP:20260421T150202Z
UID:9a7fc732-d55c-48b0-95d6-f15e7991820d
DTSTART;VALUE=DATE:20200906
DESCRIPTION:Property ID# 486110\, Time: 11:00AM
SUMMARY:Auction for 
END:VEVENT
END:VCALENDAR
