BEGIN:VCALENDAR
VERSION:2.0
PRODID:icalendar-ruby
CALSCALE:GREGORIAN
BEGIN:VEVENT
DTSTAMP:20260421T145039Z
UID:d179fb51-ba36-4328-acf6-9ff74d5e017b
DTSTART;VALUE=DATE:20200517
DESCRIPTION:Property ID# 477471\, Time: 2:00PM
SUMMARY:Auction for 
END:VEVENT
END:VCALENDAR
