BEGIN:VCALENDAR
VERSION:2.0
PRODID:icalendar-ruby
CALSCALE:GREGORIAN
BEGIN:VEVENT
DTSTAMP:20260421T104222Z
UID:a75460b3-7dcc-4aa7-9d4b-1ff85991f9e3
DTSTART;VALUE=DATE:20200319
DESCRIPTION:Property ID# 474064\, Time: 6:30PM
SUMMARY:Auction for 
END:VEVENT
END:VCALENDAR
