BEGIN:VCALENDAR
VERSION:2.0
PRODID:icalendar-ruby
CALSCALE:GREGORIAN
BEGIN:VEVENT
DTSTAMP:20260421T114117Z
UID:69f92691-64b8-44b9-9c91-2ce4a3e111e4
DTSTART;VALUE=DATE:20200326
DESCRIPTION:Property ID# 473657\, Time: 6:30PM
SUMMARY:Auction for 
END:VEVENT
END:VCALENDAR
