BEGIN:VCALENDAR
VERSION:2.0
PRODID:icalendar-ruby
CALSCALE:GREGORIAN
BEGIN:VEVENT
DTSTAMP:20260421T104322Z
UID:5ce2eee6-97e0-4b98-a9b1-6e8690cbaee2
DTSTART;VALUE=DATE:20191107
DESCRIPTION:Property ID# 464559\, Time: 12:00PM
SUMMARY:Auction for 
END:VEVENT
END:VCALENDAR
