BEGIN:VCALENDAR
VERSION:2.0
PRODID:icalendar-ruby
CALSCALE:GREGORIAN
BEGIN:VEVENT
DTSTAMP:20260423T115208Z
UID:37050aab-1397-4c26-ac68-aa82cd5032a6
DTSTART;VALUE=DATE:20191010
DESCRIPTION:Property ID# 462006\, Time: 6:30PM
SUMMARY:Auction for 
END:VEVENT
END:VCALENDAR
